BEGIN:VCALENDAR
VERSION:2.0
PRODID:-//Your Dog&#039;s Best Days - ECPv6.15.20//NONSGML v1.0//EN
CALSCALE:GREGORIAN
METHOD:PUBLISH
X-WR-CALNAME:Your Dog&#039;s Best Days
X-ORIGINAL-URL:https://www.yourdogsbestdays.com
X-WR-CALDESC:Events for Your Dog&#039;s Best Days
REFRESH-INTERVAL;VALUE=DURATION:PT1H
X-Robots-Tag:noindex
X-PUBLISHED-TTL:PT1H
BEGIN:VTIMEZONE
TZID:America/Chicago
BEGIN:DAYLIGHT
TZOFFSETFROM:-0600
TZOFFSETTO:-0500
TZNAME:CDT
DTSTART:20240310T080000
END:DAYLIGHT
BEGIN:STANDARD
TZOFFSETFROM:-0500
TZOFFSETTO:-0600
TZNAME:CST
DTSTART:20241103T070000
END:STANDARD
BEGIN:DAYLIGHT
TZOFFSETFROM:-0600
TZOFFSETTO:-0500
TZNAME:CDT
DTSTART:20250309T080000
END:DAYLIGHT
BEGIN:STANDARD
TZOFFSETFROM:-0500
TZOFFSETTO:-0600
TZNAME:CST
DTSTART:20251102T070000
END:STANDARD
BEGIN:DAYLIGHT
TZOFFSETFROM:-0600
TZOFFSETTO:-0500
TZNAME:CDT
DTSTART:20260308T080000
END:DAYLIGHT
BEGIN:STANDARD
TZOFFSETFROM:-0500
TZOFFSETTO:-0600
TZNAME:CST
DTSTART:20261101T070000
END:STANDARD
END:VTIMEZONE
BEGIN:VEVENT
DTSTART;TZID=America/Chicago:20250823T100000
DTEND;TZID=America/Chicago:20250823T140000
DTSTAMP:20260421T052509
CREATED:20250804T141837Z
LAST-MODIFIED:20250806T191202Z
UID:29033-1755943200-1755957600@www.yourdogsbestdays.com
SUMMARY:Clear The Shelters 2025: Pet Adoption Event
DESCRIPTION:🐶 Clear The Shelters Day + End of Summer Dog Bash\nJoin us Saturday\, August 23 | 10 AM – 2 PM \nThis August\, we’re doing more than hosting a party—we’re helping save lives. \nYour Dog’s Best Days is proud to partner with Clear The Shelters in celebrating the nationwide pet adoption campaign\, helping thousands of shelter animals find loving homes.\nAs a local host\, we’re bringing the spirit of this movement to Tulsa through a one-of-a-kind event where celebration meets compassion. \n\n🎉 What to Expect at the Event:\n🍦 Complimentary Pup Cups\nCool snacks made just for dogs. \n🎓 15% Off Obedience Training for Adopted Dogs\nGive your newly adopted furry friend the best start with discounted professional training. \n🎁 Adoption Goodie Bags\nEvery family that adopts receives a special goodie bag filled with treats and supplies from our local vendor partners. \n📺 Channel 2 News Spotlight\nWe’re thrilled to announce that Channel 2 News will be featuring our Clear the Shelters Day event! \n🏡 Facility Tours + Meet Our Certified Team\nSee what makes our facility feel like home for your pup. \n🐶 Support Shelter Dogs in Need\nWe’ll be spotlighting adoptable dogs\, sharing local shelter stories\, and encouraging attendees to support or adopt through Clear The Shelters partners. \n💛 A Portion of Our Proceeds Will Be Donated to Support Local Shelters \n\n📍 Event Details\n🗓 Date: Saturday\, August 23\, 2025\n⏰ Time: 10:00 AM – 2:00 PM\n📍 Location: Your Dog’s Best Days\, 6839 E 40th St. Tulsa\, OK 74145\n📞 RSVP: Call 918-727-7929 to register your dog or learn more \n\n🐾 Why We’re Participating\nAt Your Dog’s Best Days\, we don’t just care for dogs—we advocate for them. As an official Clear The Shelters partner\, we’re honored to use our space and voice to raise awareness\, promote adoption\, and give back to the pet community we love.\nThis event is a celebration of what we all want for animals: joy\, safety\, companionship\, and a place to belong. \n🎊 Be Part of the Movement\nWhether you’re a longtime client\, a proud rescue parent\, or new to our pack—come celebrate\, connect\, and contribute to something meaningful. \n📞 Call 918-727-7929 to RSVP.
URL:https://www.yourdogsbestdays.com/event/clear-the-shelters-2025/
LOCATION:Your Dog’s Best Days\, 6839 E 40th St.\, Tulsa\, Oklahoma\, 74145\, United States
ATTACH;FMTTYPE=image/png:https://www.yourdogsbestdays.com/wp-content/uploads/2025/07/clear-the-shelters-banner.png
ORGANIZER;CN="Your Dog's Best Days":MAILTO:info@yourdogsbestdays.com
END:VEVENT
END:VCALENDAR